BEGIN:VCALENDAR
VERSION:2.0
PRODID:-//ChamberMaster//Event Calendar 2.0//EN
METHOD:PUBLISH
X-PUBLISHED-TTL:P3D
REFRESH-INTERVAL:P3D
CALSCALE:GREGORIAN
BEGIN:VEVENT
DTSTART:20191203T133000Z
DTEND:20191203T143000Z
X-MICROSOFT-CDO-ALLDAYEVENT:FALSE
SUMMARY:Legislative Committee Meeting
DESCRIPTION:Legislative Committee Meeting
X-ALT-DESC;FMTTYPE=text/html:Legislative Committee Meeting&nbsp\;&nbsp\;&nbsp\;&nbsp\;&nbsp\;
LOCATION:Catoosa Chamber of Commerce Board Room
UID:e.730.224323
SEQUENCE:3
DTSTAMP:20260424T075841Z
URL:https://members.catoosachamberofcommerce.com/events/details/legislative-committee-meeting-224323
END:VEVENT

END:VCALENDAR
