BEGIN:VCALENDAR
VERSION:2.0
PRODID:-//ChamberMaster//Event Calendar 2.0//EN
METHOD:PUBLISH
X-PUBLISHED-TTL:P3D
REFRESH-INTERVAL:P3D
CALSCALE:GREGORIAN
BEGIN:VEVENT
DTSTART:20220711T180000Z
DTEND:20220711T190000Z
X-MICROSOFT-CDO-ALLDAYEVENT:FALSE
SUMMARY:Kingdom Promise Cleaning Ribbon Cutting
DESCRIPTION:Join us for a Chamber Ribbon Cutting!
X-ALT-DESC;FMTTYPE=text/html:Join us for a Chamber Ribbon Cutting!
LOCATION:Kingdom Promise Cleaning 1790 South Mack Smith Road Rossville
UID:e.730.226581
SEQUENCE:3
DTSTAMP:20260420T055139Z
URL:https://members.catoosachamberofcommerce.com/events/details/kingdom-promise-cleaning-ribbon-cutting-226581
END:VEVENT

END:VCALENDAR
