BEGIN:VCALENDAR
VERSION:2.0
PRODID:-//ChamberMaster//Event Calendar 2.0//EN
METHOD:PUBLISH
X-PUBLISHED-TTL:P3D
REFRESH-INTERVAL:P3D
CALSCALE:GREGORIAN
BEGIN:VEVENT
DTSTART:20260514T153000Z
DTEND:20260514T170000Z
X-MICROSOFT-CDO-ALLDAYEVENT:FALSE
SUMMARY:Digital Ads Seminar
DESCRIPTION:Join us and learn how to optimize your online advertising!
X-ALT-DESC;FMTTYPE=text/html:Join us and learn how to optimize your online advertising!
LOCATION:Georgia Northwestern Technical College Catoosa County Campus 102 College Park Drive Ringgold\, GA 30736
UID:e.730.230160
SEQUENCE:3
DTSTAMP:20260422T195622Z
URL:https://members.catoosachamberofcommerce.com/events/details/digital-ads-seminar-230160
END:VEVENT

END:VCALENDAR
