BEGIN:VCALENDAR
VERSION:2.0
PRODID:-//ChamberMaster//Event Calendar 2.0//EN
METHOD:PUBLISH
X-PUBLISHED-TTL:P3D
REFRESH-INTERVAL:P3D
CALSCALE:GREGORIAN
BEGIN:VEVENT
DTSTART:20260923T153000Z
DTEND:20260923T170000Z
X-MICROSOFT-CDO-ALLDAYEVENT:FALSE
SUMMARY:Catoosa Women's Networking Luncheon (September '26)
DESCRIPTION:Take the time to join us for a great lunch while visiting with friends and NEW connections at our quarterly Catoosa Women's Networking Luncheon.
X-ALT-DESC;FMTTYPE=text/html:<p><span style="color: rgb(41\, 75\, 147)\; font-family: Calibri\, Helvetica\, Arial\, sans-serif\; font-size: 16px\; text-align: center\; white-space: pre-wrap\;">Take the time to join us for a great lunch while visiting with friends and NEW connections at our quarterly Catoosa Women&#39\;s Networking Luncheon. </span></p>\n
LOCATION:Covey Creek Farm 2855 Cloud Springs Road Rossville\, Georgia
UID:e.730.230140
SEQUENCE:3
DTSTAMP:20260423T082127Z
URL:https://members.catoosachamberofcommerce.com/events/details/catoosa-women-s-networking-luncheon-september-26-230140
END:VEVENT

END:VCALENDAR
