BEGIN:VCALENDAR
VERSION:2.0
PRODID:-//ChamberMaster//Event Calendar 2.0//EN
METHOD:PUBLISH
X-PUBLISHED-TTL:P3D
REFRESH-INTERVAL:P3D
CALSCALE:GREGORIAN
BEGIN:VEVENT
DTSTART:20260429T153000Z
DTEND:20260429T170000Z
X-MICROSOFT-CDO-ALLDAYEVENT:FALSE
SUMMARY:Catoosa Women's Networking Luncheon (April '26)
DESCRIPTION:Take the time to join us for a great lunch while visiting with friends and NEW connections at our quarterly Catoosa Women's Networking Luncheon. Hear from our guest speaker Cara Hicks\, Founder and CEO of The Momentum Network.\n\n\n\nCara Hicks is the Found and Chief Empowerment Officer of The Momentum Network\, a Chattanooga-based nonprofit dedicated to empowering single mothers and students facing unplanned pregnancies to persist in college\, achieve economic stability\, and build strong families through a two-generation support model.\n\n\n\nA speaker\, community leader\, and mom of 5\, Cara is passionate about transforming personal adversity into purpose. After experiencing an unplanned pregnancy while preparing for college\, she chose a different path - one that ultimately led her to build a thriving organization that now serves hundreds of mothers and children each year through housing\, childcare partnerships\, coaching\, and community support.\n\n\n\nUnder her leadership\, The Momentum Network has grown from a prayer into a full village with a campus\, growing community of supporters\, & comprehensive program that equips women to overcome and create lasting change for future generations. Cara's work has been recognized nationally\, including a feature on the Today Show.\n\n\n\nKnown for her authentic storytelling and bold vision\, faith\, leadership\, and the power of community to change lives.
X-ALT-DESC;FMTTYPE=text/html:<p><span style="color: rgb(41\, 75\, 147)\; font-family: Calibri\, Helvetica\, Arial\, sans-serif\; font-size: 16px\; text-align: center\; white-space: pre-wrap\;">Take the time to join us for a great lunch while visiting with friends and NEW connections at our quarterly Catoosa Women&#39\;s Networking Luncheon. Hear from our guest speaker Cara Hicks\, Founder and CEO of The Momentum Network.<br />\n<br />\nCara Hicks is the Found and Chief Empowerment Officer of The Momentum Network\, a Chattanooga-based nonprofit dedicated to empowering single mothers and students facing unplanned pregnancies to persist in college\, achieve economic stability\, and build strong families through a two-generation support model.<br />\n<br />\nA speaker\, community leader\, and mom of 5\, Cara is passionate about transforming personal adversity into purpose. After experiencing an unplanned pregnancy while preparing for college\, she chose a different path - one that ultimately led her to build a thriving organization that now serves hundreds of mothers and children each year through housing\, childcare partnerships\, coaching\, and community support.<br />\n<br />\nUnder her leadership\, The Momentum Network has grown from a prayer into a full village with a campus\, growing community of supporters\, &amp\; comprehensive program that equips women to overcome and create lasting change for future generations. Cara&#39\;s work has been recognized nationally\, including a feature on the Today Show.<br />\n<br />\nKnown for her authentic storytelling and bold vision\, faith\, leadership\, and the power of community to change lives.</span></p>\n
LOCATION:Covey Creek Farm 2855 Cloud Springs Road Rossville\, Georgia
UID:e.730.230134
SEQUENCE:3
DTSTAMP:20260421T081920Z
URL:https://members.catoosachamberofcommerce.com/events/details/catoosa-women-s-networking-luncheon-april-26-230134
END:VEVENT

END:VCALENDAR
