BEGIN:VCALENDAR
VERSION:2.0
PRODID:-//ChamberMaster//Event Calendar 2.0//EN
METHOD:PUBLISH
X-PUBLISHED-TTL:P3D
REFRESH-INTERVAL:P3D
CALSCALE:GREGORIAN
BEGIN:VEVENT
DTSTART:20200702T153000Z
DTEND:20200702T170000Z
X-MICROSOFT-CDO-ALLDAYEVENT:FALSE
SUMMARY:Ambassadors' Luncheon Meeting
DESCRIPTION:Ambassadors' Luncheon Meeting
X-ALT-DESC;FMTTYPE=text/html:<div>Ambassadors&#39\; Luncheon Meeting</div>\n
LOCATION:
UID:e.730.214683
SEQUENCE:3
DTSTAMP:20260421T094330Z
URL:https://members.catoosachamberofcommerce.com/events/details/ambassador-s-lunch-meeting-07-02-2020-214683
END:VEVENT

END:VCALENDAR
